BEGIN:VCALENDAR
VERSION:2.0
PRODID:-//Women&#039;s Reciprocity Group - ECPv6.8.2.1//NONSGML v1.0//EN
CALSCALE:GREGORIAN
METHOD:PUBLISH
X-ORIGINAL-URL:https://wrgdsm.com
X-WR-CALDESC:Events for Women&#039;s Reciprocity Group
REFRESH-INTERVAL;VALUE=DURATION:PT1H
X-Robots-Tag:noindex
X-PUBLISHED-TTL:PT1H
BEGIN:VTIMEZONE
TZID:America/Chicago
BEGIN:DAYLIGHT
TZOFFSETFROM:-0600
TZOFFSETTO:-0500
TZNAME:CDT
DTSTART:20210314T080000
END:DAYLIGHT
BEGIN:STANDARD
TZOFFSETFROM:-0500
TZOFFSETTO:-0600
TZNAME:CST
DTSTART:20211107T070000
END:STANDARD
BEGIN:DAYLIGHT
TZOFFSETFROM:-0600
TZOFFSETTO:-0500
TZNAME:CDT
DTSTART:20220313T080000
END:DAYLIGHT
BEGIN:STANDARD
TZOFFSETFROM:-0500
TZOFFSETTO:-0600
TZNAME:CST
DTSTART:20221106T070000
END:STANDARD
END:VTIMEZONE
BEGIN:VEVENT
DTSTART;TZID=America/Chicago:20220727T073000
DTEND;TZID=America/Chicago:20220727T083000
DTSTAMP:20260421T051144
CREATED:20220602T133750Z
LAST-MODIFIED:20220602T133750Z
UID:1845-1658907000-1658910600@wrgdsm.com
SUMMARY:Lindsay Brown
DESCRIPTION:
URL:https://wrgdsm.com/event/lindsay-brown-4/
LOCATION:Hamilton’s\, 3601 Westown Pkwy\, West Des Moines\, IA\, 50266
CATEGORIES:Craft Talk
END:VEVENT
BEGIN:VEVENT
DTSTART;TZID=America/Chicago:20220622T073000
DTEND;TZID=America/Chicago:20220622T083000
DTSTAMP:20260421T051144
CREATED:20220413T144649Z
LAST-MODIFIED:20220413T144844Z
UID:1745-1655883000-1655886600@wrgdsm.com
SUMMARY:WRG Annual Meeting
DESCRIPTION:
URL:https://wrgdsm.com/event/wrg-annual-meeting-2-2/
LOCATION:Hamilton’s\, 3601 Westown Pkwy\, West Des Moines\, IA\, 50266
CATEGORIES:Craft Talk
END:VEVENT
BEGIN:VEVENT
DTSTART;TZID=America/Chicago:20220518T073000
DTEND;TZID=America/Chicago:20220518T083000
DTSTAMP:20260421T051144
CREATED:20220413T144257Z
LAST-MODIFIED:20220417T191034Z
UID:1741-1652859000-1652862600@wrgdsm.com
SUMMARY:Pam Steinick
DESCRIPTION:
URL:https://wrgdsm.com/event/lindsay-brown-3/
LOCATION:Hamilton’s\, 3601 Westown Pkwy\, West Des Moines\, IA\, 50266
CATEGORIES:Craft Talk
END:VEVENT
BEGIN:VEVENT
DTSTART;TZID=America/Chicago:20220323T073000
DTEND;TZID=America/Chicago:20220323T083000
DTSTAMP:20260421T051144
CREATED:20220123T162323Z
LAST-MODIFIED:20220123T162323Z
UID:1567-1648020600-1648024200@wrgdsm.com
SUMMARY:Jody Runella
DESCRIPTION:
URL:https://wrgdsm.com/event/jody-runella-2/
LOCATION:Hamilton’s\, 3601 Westown Pkwy\, West Des Moines\, IA\, 50266
CATEGORIES:Craft Talk
END:VEVENT
BEGIN:VEVENT
DTSTART;TZID=America/Chicago:20220316T073000
DTEND;TZID=America/Chicago:20220316T083000
DTSTAMP:20260421T051144
CREATED:20220115T150212Z
LAST-MODIFIED:20220115T150212Z
UID:1550-1647415800-1647419400@wrgdsm.com
SUMMARY:Tresa Boal
DESCRIPTION:
URL:https://wrgdsm.com/event/tresa-boal-2-2/
LOCATION:Hamilton’s\, 3601 Westown Pkwy\, West Des Moines\, IA\, 50266
CATEGORIES:Craft Talk
END:VEVENT
BEGIN:VEVENT
DTSTART;TZID=America/Chicago:20220302T073000
DTEND;TZID=America/Chicago:20220302T083000
DTSTAMP:20260421T051144
CREATED:20220123T162015Z
LAST-MODIFIED:20220123T162046Z
UID:1563-1646206200-1646209800@wrgdsm.com
SUMMARY:Guest Day
DESCRIPTION:
URL:https://wrgdsm.com/event/guest-day/
LOCATION:Hamilton’s\, 3601 Westown Pkwy\, West Des Moines\, IA\, 50266
CATEGORIES:Craft Talk
END:VEVENT
BEGIN:VEVENT
DTSTART;TZID=America/Chicago:20220223T073000
DTEND;TZID=America/Chicago:20220223T083000
DTSTAMP:20260421T051144
CREATED:20211213T005432Z
LAST-MODIFIED:20220115T145244Z
UID:1511-1645601400-1645605000@wrgdsm.com
SUMMARY:Cheryl Laird-Rist
DESCRIPTION:
URL:https://wrgdsm.com/event/bridget-drendel-3-2/
LOCATION:Hamilton’s\, 3601 Westown Pkwy\, West Des Moines\, IA\, 50266
CATEGORIES:Craft Talk
END:VEVENT
BEGIN:VEVENT
DTSTART;TZID=America/Chicago:20220216T073000
DTEND;TZID=America/Chicago:20220216T083000
DTSTAMP:20260421T051144
CREATED:20211213T004008Z
LAST-MODIFIED:20220115T145554Z
UID:1503-1644996600-1645000200@wrgdsm.com
SUMMARY:Guest Speaker:  Bobbie Jo Sheridan
DESCRIPTION:
URL:https://wrgdsm.com/event/megan-regennitter-4-2/
LOCATION:Hamilton’s\, 3601 Westown Pkwy\, West Des Moines\, IA\, 50266
CATEGORIES:Craft Talk
END:VEVENT
BEGIN:VEVENT
DTSTART;TZID=America/Chicago:20220202T073000
DTEND;TZID=America/Chicago:20220202T083000
DTSTAMP:20260421T051144
CREATED:20220123T161739Z
LAST-MODIFIED:20220123T161858Z
UID:1560-1643787000-1643790600@wrgdsm.com
SUMMARY:Guest Speaker: Christina Moffatt
DESCRIPTION:
URL:https://wrgdsm.com/event/guest-speaker-christina-moffatt/
LOCATION:Hamilton’s\, 3601 Westown Pkwy\, West Des Moines\, IA\, 50266
CATEGORIES:Craft Talk
END:VEVENT
BEGIN:VEVENT
DTSTART;TZID=America/Chicago:20220126T073000
DTEND;TZID=America/Chicago:20220126T083000
DTSTAMP:20260421T051144
CREATED:20211213T004337Z
LAST-MODIFIED:20211213T004337Z
UID:1502-1643182200-1643185800@wrgdsm.com
SUMMARY:Kathy Dunbar
DESCRIPTION:
URL:https://wrgdsm.com/event/kathy-dunbar-2/
LOCATION:Hamilton’s\, 3601 Westown Pkwy\, West Des Moines\, IA\, 50266
CATEGORIES:Craft Talk
END:VEVENT
BEGIN:VEVENT
DTSTART;TZID=America/Chicago:20220119T073000
DTEND;TZID=America/Chicago:20220119T083000
DTSTAMP:20260421T051144
CREATED:20211213T003650Z
LAST-MODIFIED:20211213T003707Z
UID:1499-1642577400-1642581000@wrgdsm.com
SUMMARY:Heather Miller
DESCRIPTION:
URL:https://wrgdsm.com/event/heather-miller-3/
LOCATION:Hamilton’s\, 3601 Westown Pkwy\, West Des Moines\, IA\, 50266
CATEGORIES:Craft Talk
END:VEVENT
BEGIN:VEVENT
DTSTART;TZID=America/Chicago:20220105T073000
DTEND;TZID=America/Chicago:20220105T083000
DTSTAMP:20260421T051144
CREATED:20211212T151645Z
LAST-MODIFIED:20211212T151645Z
UID:1490-1641367800-1641371400@wrgdsm.com
SUMMARY:WRG State of Union
DESCRIPTION:
URL:https://wrgdsm.com/event/wrg-state-of-union/
LOCATION:Hamilton’s\, 3601 Westown Pkwy\, West Des Moines\, IA\, 50266
CATEGORIES:Craft Talk
END:VEVENT
BEGIN:VEVENT
DTSTART;TZID=America/Chicago:20210519T073000
DTEND;TZID=America/Chicago:20210519T083000
DTSTAMP:20260421T051144
CREATED:20210511T205712Z
LAST-MODIFIED:20210511T205712Z
UID:1252-1621409400-1621413000@wrgdsm.com
SUMMARY:WRG Meeting @ Hamilton's
DESCRIPTION:
URL:https://wrgdsm.com/event/wrg-meeting-hamiltons/
LOCATION:Hamilton’s\, 3601 Westown Pkwy\, West Des Moines\, IA\, 50266
END:VEVENT
END:VCALENDAR