BEGIN:VCALENDAR
VERSION:2.0
PRODID:-//Women&#039;s Reciprocity Group - ECPv6.8.2.1//NONSGML v1.0//EN
CALSCALE:GREGORIAN
METHOD:PUBLISH
X-ORIGINAL-URL:https://wrgdsm.com
X-WR-CALDESC:Events for Women&#039;s Reciprocity Group
REFRESH-INTERVAL;VALUE=DURATION:PT1H
X-Robots-Tag:noindex
X-PUBLISHED-TTL:PT1H
BEGIN:VTIMEZONE
TZID:America/Chicago
BEGIN:DAYLIGHT
TZOFFSETFROM:-0600
TZOFFSETTO:-0500
TZNAME:CDT
DTSTART:20270314T080000
END:DAYLIGHT
BEGIN:STANDARD
TZOFFSETFROM:-0500
TZOFFSETTO:-0600
TZNAME:CST
DTSTART:20271107T070000
END:STANDARD
END:VTIMEZONE
BEGIN:VEVENT
DTSTART;VALUE=DATE:20270801
DTEND;VALUE=DATE:20270802
DTSTAMP:20260421T063458
CREATED:20210113T122707Z
LAST-MODIFIED:20210113T122707Z
UID:2247-1817078400-1817164799@wrgdsm.com
SUMMARY:(1993) Linda Corell
DESCRIPTION:
URL:https://wrgdsm.com/event/1993-linda-corell/2027-08-01/
CATEGORIES:WRG Anniversary
END:VEVENT
BEGIN:VEVENT
DTSTART;VALUE=DATE:20270801
DTEND;VALUE=DATE:20270802
DTSTAMP:20260421T063458
CREATED:20210113T123000Z
LAST-MODIFIED:20210113T123000Z
UID:2248-1817078400-1817164799@wrgdsm.com
SUMMARY:(2002) Kathi Koenig
DESCRIPTION:
URL:https://wrgdsm.com/event/2002-kathi-koenig/2027-08-01/
CATEGORIES:WRG Anniversary
END:VEVENT
BEGIN:VEVENT
DTSTART;VALUE=DATE:20270808
DTEND;VALUE=DATE:20270809
DTSTAMP:20260421T063458
CREATED:20220824T105039Z
LAST-MODIFIED:20220824T105039Z
UID:2249-1817683200-1817769599@wrgdsm.com
SUMMARY:(2022) Jael Kulp
DESCRIPTION:
URL:https://wrgdsm.com/event/2022-jael-kulp/2027-08-08/
CATEGORIES:WRG Anniversary
END:VEVENT
BEGIN:VEVENT
DTSTART;VALUE=DATE:20270816
DTEND;VALUE=DATE:20270817
DTSTAMP:20260421T063458
CREATED:20220824T105528Z
LAST-MODIFIED:20220824T105528Z
UID:2250-1818374400-1818460799@wrgdsm.com
SUMMARY:Jael Kulp
DESCRIPTION:
URL:https://wrgdsm.com/event/jael-kulp-2/2027-08-16/
CATEGORIES:Birthday
END:VEVENT
BEGIN:VEVENT
DTSTART;VALUE=DATE:20270831
DTEND;VALUE=DATE:20270901
DTSTAMP:20260421T063458
CREATED:20210104T203008Z
LAST-MODIFIED:20210104T203008Z
UID:2251-1819670400-1819756799@wrgdsm.com
SUMMARY:Elizabeth Jones
DESCRIPTION:
URL:https://wrgdsm.com/event/elizabeth-jones/2027-08-31/
CATEGORIES:Birthday
END:VEVENT
BEGIN:VEVENT
DTSTART;VALUE=DATE:20270831
DTEND;VALUE=DATE:20270901
DTSTAMP:20260421T063458
CREATED:20210112T212535Z
LAST-MODIFIED:20210112T212535Z
UID:2252-1819670400-1819756799@wrgdsm.com
SUMMARY:Kathi Koenig
DESCRIPTION:
URL:https://wrgdsm.com/event/kathi-koenig-2/2027-08-31/
CATEGORIES:Anniversary
END:VEVENT
END:VCALENDAR