BEGIN:VCALENDAR
VERSION:2.0
PRODID:-//Women&#039;s Reciprocity Group - ECPv6.8.2.1//NONSGML v1.0//EN
CALSCALE:GREGORIAN
METHOD:PUBLISH
X-WR-CALNAME:Women&#039;s Reciprocity Group
X-ORIGINAL-URL:https://wrgdsm.com
X-WR-CALDESC:Events for Women&#039;s Reciprocity Group
REFRESH-INTERVAL;VALUE=DURATION:PT1H
X-Robots-Tag:noindex
X-PUBLISHED-TTL:PT1H
BEGIN:VTIMEZONE
TZID:America/Chicago
BEGIN:DAYLIGHT
TZOFFSETFROM:-0600
TZOFFSETTO:-0500
TZNAME:CDT
DTSTART:20270314T080000
END:DAYLIGHT
BEGIN:STANDARD
TZOFFSETFROM:-0500
TZOFFSETTO:-0600
TZNAME:CST
DTSTART:20271107T070000
END:STANDARD
END:VTIMEZONE
BEGIN:VEVENT
DTSTART;VALUE=DATE:20270601
DTEND;VALUE=DATE:20270602
DTSTAMP:20260421T045931
CREATED:20210113T122020Z
LAST-MODIFIED:20210113T122020Z
UID:2207-1811808000-1811894399@wrgdsm.com
SUMMARY:(2002) Ellen Corwin
DESCRIPTION:
URL:https://wrgdsm.com/event/2002-ellen-corwin/2027-06-01/
CATEGORIES:WRG Anniversary
END:VEVENT
BEGIN:VEVENT
DTSTART;VALUE=DATE:20270601
DTEND;VALUE=DATE:20270602
DTSTAMP:20260421T045931
CREATED:20210113T122053Z
LAST-MODIFIED:20210113T122053Z
UID:2208-1811808000-1811894399@wrgdsm.com
SUMMARY:(2013) Lindsay Brown
DESCRIPTION:
URL:https://wrgdsm.com/event/2013-lindsay-brown/2027-06-01/
CATEGORIES:WRG Anniversary
END:VEVENT
BEGIN:VEVENT
DTSTART;VALUE=DATE:20270601
DTEND;VALUE=DATE:20270602
DTSTAMP:20260421T045931
CREATED:20210113T122133Z
LAST-MODIFIED:20210113T122133Z
UID:2209-1811808000-1811894399@wrgdsm.com
SUMMARY:(2015) Tresa Boal
DESCRIPTION:
URL:https://wrgdsm.com/event/2015-tresa-boal/2027-06-01/
CATEGORIES:WRG Anniversary
END:VEVENT
BEGIN:VEVENT
DTSTART;VALUE=DATE:20270609
DTEND;VALUE=DATE:20270610
DTSTAMP:20260421T045931
CREATED:20210113T121658Z
LAST-MODIFIED:20210113T121658Z
UID:2210-1812499200-1812585599@wrgdsm.com
SUMMARY:Sheri Thompson
DESCRIPTION:
URL:https://wrgdsm.com/event/sheri-thompson-2/2027-06-09/
CATEGORIES:Anniversary
END:VEVENT
BEGIN:VEVENT
DTSTART;VALUE=DATE:20270610
DTEND;VALUE=DATE:20270611
DTSTAMP:20260421T045931
CREATED:20210113T121821Z
LAST-MODIFIED:20210113T121821Z
UID:2211-1812585600-1812671999@wrgdsm.com
SUMMARY:Sasha Mudlaff
DESCRIPTION:
URL:https://wrgdsm.com/event/sasha-mudlaff-2/2027-06-10/
CATEGORIES:Anniversary
END:VEVENT
BEGIN:VEVENT
DTSTART;VALUE=DATE:20270614
DTEND;VALUE=DATE:20270615
DTSTAMP:20260421T045931
CREATED:20210127T143424Z
LAST-MODIFIED:20210127T143424Z
UID:2212-1812931200-1813017599@wrgdsm.com
SUMMARY:MJ Brown
DESCRIPTION:
URL:https://wrgdsm.com/event/mj-brown/2027-06-14/
CATEGORIES:Birthday
END:VEVENT
BEGIN:VEVENT
DTSTART;VALUE=DATE:20270625
DTEND;VALUE=DATE:20270626
DTSTAMP:20260421T045931
CREATED:20210104T202642Z
LAST-MODIFIED:20210104T202642Z
UID:2213-1813881600-1813967999@wrgdsm.com
SUMMARY:Cheryl Laird-Humphrey
DESCRIPTION:
URL:https://wrgdsm.com/event/cheryl-laird-humphrey/2027-06-25/
CATEGORIES:Birthday
END:VEVENT
END:VCALENDAR