BEGIN:VCALENDAR
VERSION:2.0
PRODID:-//Women&#039;s Reciprocity Group - ECPv6.8.2.1//NONSGML v1.0//EN
CALSCALE:GREGORIAN
METHOD:PUBLISH
X-ORIGINAL-URL:https://wrgdsm.com
X-WR-CALDESC:Events for Women&#039;s Reciprocity Group
REFRESH-INTERVAL;VALUE=DURATION:PT1H
X-Robots-Tag:noindex
X-PUBLISHED-TTL:PT1H
BEGIN:VTIMEZONE
TZID:America/Chicago
BEGIN:DAYLIGHT
TZOFFSETFROM:-0600
TZOFFSETTO:-0500
TZNAME:CDT
DTSTART:20250309T080000
END:DAYLIGHT
BEGIN:STANDARD
TZOFFSETFROM:-0500
TZOFFSETTO:-0600
TZNAME:CST
DTSTART:20251102T070000
END:STANDARD
END:VTIMEZONE
BEGIN:VEVENT
DTSTART;VALUE=DATE:20250901
DTEND;VALUE=DATE:20250902
DTSTAMP:20260422T054206
CREATED:20210115T202435Z
LAST-MODIFIED:20210115T202435Z
UID:2050-1756684800-1756771199@wrgdsm.com
SUMMARY:(2013)Terri Mcilhon
DESCRIPTION:
URL:https://wrgdsm.com/event/terri-mcilhon-2013/2025-09-01/
CATEGORIES:WRG Anniversary
END:VEVENT
BEGIN:VEVENT
DTSTART;VALUE=DATE:20250901
DTEND;VALUE=DATE:20250902
DTSTAMP:20260422T054206
CREATED:20210115T202629Z
LAST-MODIFIED:20210115T202629Z
UID:2051-1756684800-1756771199@wrgdsm.com
SUMMARY:(2016) Denise Rairdin
DESCRIPTION:
URL:https://wrgdsm.com/event/2016denise-rairdin/2025-09-01/
CATEGORIES:WRG Anniversary
END:VEVENT
BEGIN:VEVENT
DTSTART;VALUE=DATE:20250901
DTEND;VALUE=DATE:20250902
DTSTAMP:20260422T054206
CREATED:20210126T202603Z
LAST-MODIFIED:20210126T202603Z
UID:2052-1756684800-1756771199@wrgdsm.com
SUMMARY:(2018) Paula Bierle
DESCRIPTION:
URL:https://wrgdsm.com/event/2018-paula-bierle/2025-09-01/
CATEGORIES:WRG Anniversary
END:VEVENT
BEGIN:VEVENT
DTSTART;VALUE=DATE:20250906
DTEND;VALUE=DATE:20250907
DTSTAMP:20260422T054206
CREATED:20210104T203044Z
LAST-MODIFIED:20210104T203044Z
UID:2054-1757116800-1757203199@wrgdsm.com
SUMMARY:LuGene Isleman
DESCRIPTION:
URL:https://wrgdsm.com/event/lugene-isleman/2025-09-06/
CATEGORIES:Birthday
END:VEVENT
BEGIN:VEVENT
DTSTART;VALUE=DATE:20250906
DTEND;VALUE=DATE:20250907
DTSTAMP:20260422T054206
CREATED:20210906T194907Z
LAST-MODIFIED:20210906T194907Z
UID:2053-1757116800-1757203199@wrgdsm.com
SUMMARY:Cheryl-Laird Rist
DESCRIPTION:
URL:https://wrgdsm.com/event/cheryl-laird-rist-3/2025-09-06/
CATEGORIES:Anniversary
END:VEVENT
BEGIN:VEVENT
DTSTART;VALUE=DATE:20250908
DTEND;VALUE=DATE:20250909
DTSTAMP:20260422T054206
CREATED:20210104T203112Z
LAST-MODIFIED:20210104T203112Z
UID:2055-1757289600-1757375999@wrgdsm.com
SUMMARY:Denise Rairdin
DESCRIPTION:
URL:https://wrgdsm.com/event/denise-rairdin/2025-09-08/
CATEGORIES:Birthday
END:VEVENT
BEGIN:VEVENT
DTSTART;VALUE=DATE:20250922
DTEND;VALUE=DATE:20250923
DTSTAMP:20260422T054206
CREATED:20210115T202155Z
LAST-MODIFIED:20210115T202155Z
UID:2056-1758499200-1758585599@wrgdsm.com
SUMMARY:Heidi Brown
DESCRIPTION:
URL:https://wrgdsm.com/event/heidi-brown-3/2025-09-22/
CATEGORIES:Anniversary
END:VEVENT
BEGIN:VEVENT
DTSTART;VALUE=DATE:20250926
DTEND;VALUE=DATE:20250927
DTSTAMP:20260422T054206
CREATED:20210113T123118Z
LAST-MODIFIED:20210113T123118Z
UID:2057-1758844800-1758931199@wrgdsm.com
SUMMARY:Denise Rairdin
DESCRIPTION:
URL:https://wrgdsm.com/event/denise-rairdin-3/2025-09-26/
CATEGORIES:Anniversary
END:VEVENT
END:VCALENDAR